BEGIN:VCALENDAR
PRODID:http://www.kufer.de/kuferweb / DE
VERSION:2.0
METHOD:PUBLISH
CALSCALE:GREGORIAN
X-WR-TIMEZONE:Europe/Berlin
BEGIN:VTIMEZONE
TZID:Europe/Berlin
X-LIC-LOCATION:Europe/Berlin
BEGIN:DAYLIGHT
TZOFFSETFROM:+0100
TZOFFSETTO:+0200
TZNAME:CEST
DTSTART;TZID=Europe/Berlin:19700329T020000
RRULE:FREQ=YEARLY;INTERVAL=1;BYDAY=-1SU;BYMONTH=3
END:DAYLIGHT
BEGIN:STANDARD
TZOFFSETFROM:+0200
TZOFFSETTO:+0100
TZNAME:CET
DTSTART;TZID=Europe/Berlin:19701025T030000
RRULE:FREQ=YEARLY;INTERVAL=1;BYDAY=-1SU;BYMONTH=10
END:STANDARD
END:VTIMEZONE
BEGIN:VEVENT
DTSTAMP:20260422T170455
DTSTART;TZID=Europe/Berlin:20260609T181500
DTEND;TZID=Europe/Berlin:20260609T194500
UID:26F3.01311-20260609T181500@VHSWIESENTAL
SUMMARY:Zwischenkurs: Hatha-Yoga (Mittelstufe) (26F3.01311) 
LOCATION:Haus des Gastes Zimmer 2, Meinrad-Thoma-Str. 21, 79674 Todtnau
END:VEVENT
BEGIN:VEVENT
DTSTAMP:20260422T170455
DTSTART;TZID=Europe/Berlin:20260616T181500
DTEND;TZID=Europe/Berlin:20260616T194500
UID:26F3.01311-20260616T181500@VHSWIESENTAL
SUMMARY:Zwischenkurs: Hatha-Yoga (Mittelstufe) (26F3.01311) 
LOCATION:Haus des Gastes Zimmer 2, Meinrad-Thoma-Str. 21, 79674 Todtnau
END:VEVENT
BEGIN:VEVENT
DTSTAMP:20260422T170455
DTSTART;TZID=Europe/Berlin:20260623T181500
DTEND;TZID=Europe/Berlin:20260623T194500
UID:26F3.01311-20260623T181500@VHSWIESENTAL
SUMMARY:Zwischenkurs: Hatha-Yoga (Mittelstufe) (26F3.01311) 
LOCATION:Haus des Gastes Zimmer 2, Meinrad-Thoma-Str. 21, 79674 Todtnau
END:VEVENT
BEGIN:VEVENT
DTSTAMP:20260422T170455
DTSTART;TZID=Europe/Berlin:20260630T181500
DTEND;TZID=Europe/Berlin:20260630T194500
UID:26F3.01311-20260630T181500@VHSWIESENTAL
SUMMARY:Zwischenkurs: Hatha-Yoga (Mittelstufe) (26F3.01311) 
LOCATION:Haus des Gastes Zimmer 2, Meinrad-Thoma-Str. 21, 79674 Todtnau
END:VEVENT
BEGIN:VEVENT
DTSTAMP:20260422T170455
DTSTART;TZID=Europe/Berlin:20260707T181500
DTEND;TZID=Europe/Berlin:20260707T194500
UID:26F3.01311-20260707T181500@VHSWIESENTAL
SUMMARY:Zwischenkurs: Hatha-Yoga (Mittelstufe) (26F3.01311) 
LOCATION:Haus des Gastes Zimmer 2, Meinrad-Thoma-Str. 21, 79674 Todtnau
END:VEVENT
BEGIN:VEVENT
DTSTAMP:20260422T170455
DTSTART;TZID=Europe/Berlin:20260714T181500
DTEND;TZID=Europe/Berlin:20260714T194500
UID:26F3.01311-20260714T181500@VHSWIESENTAL
SUMMARY:Zwischenkurs: Hatha-Yoga (Mittelstufe) (26F3.01311) 
LOCATION:Haus des Gastes Zimmer 2, Meinrad-Thoma-Str. 21, 79674 Todtnau
END:VEVENT
BEGIN:VEVENT
DTSTAMP:20260422T170455
DTSTART;TZID=Europe/Berlin:20260721T181500
DTEND;TZID=Europe/Berlin:20260721T194500
UID:26F3.01311-20260721T181500@VHSWIESENTAL
SUMMARY:Zwischenkurs: Hatha-Yoga (Mittelstufe) (26F3.01311) 
LOCATION:Haus des Gastes Zimmer 2, Meinrad-Thoma-Str. 21, 79674 Todtnau
END:VEVENT
END:VCALENDAR