BEGIN:VCALENDAR
PRODID:http://www.kufer.de/kuferweb / DE
VERSION:2.0
METHOD:PUBLISH
CALSCALE:GREGORIAN
X-WR-TIMEZONE:Europe/Berlin
BEGIN:VTIMEZONE
TZID:Europe/Berlin
X-LIC-LOCATION:Europe/Berlin
BEGIN:DAYLIGHT
TZOFFSETFROM:+0100
TZOFFSETTO:+0200
TZNAME:CEST
DTSTART;TZID=Europe/Berlin:19700329T020000
RRULE:FREQ=YEARLY;INTERVAL=1;BYDAY=-1SU;BYMONTH=3
END:DAYLIGHT
BEGIN:STANDARD
TZOFFSETFROM:+0200
TZOFFSETTO:+0100
TZNAME:CET
DTSTART;TZID=Europe/Berlin:19701025T030000
RRULE:FREQ=YEARLY;INTERVAL=1;BYDAY=-1SU;BYMONTH=10
END:STANDARD
END:VTIMEZONE
BEGIN:VEVENT
DTSTAMP:20260422T110539
DTSTART;TZID=Europe/Berlin:20260223T184500
DTEND;TZID=Europe/Berlin:20260223T193000
UID:26F3.02233-20260223T184500@VHSWIESENTAL
SUMMARY:Bauch-Beine-Po-Training: effektiv und vital I (26F3.02233) 
LOCATION:Städtischer Kindergarten Zell, Bahnhofstraße 7, 79669 Zell im Wiesental
END:VEVENT
BEGIN:VEVENT
DTSTAMP:20260422T110539
DTSTART;TZID=Europe/Berlin:20260302T184500
DTEND;TZID=Europe/Berlin:20260302T193000
UID:26F3.02233-20260302T184500@VHSWIESENTAL
SUMMARY:Bauch-Beine-Po-Training: effektiv und vital I (26F3.02233) 
LOCATION:Städtischer Kindergarten Zell, Bahnhofstraße 7, 79669 Zell im Wiesental
END:VEVENT
BEGIN:VEVENT
DTSTAMP:20260422T110539
DTSTART;TZID=Europe/Berlin:20260309T184500
DTEND;TZID=Europe/Berlin:20260309T193000
UID:26F3.02233-20260309T184500@VHSWIESENTAL
SUMMARY:Bauch-Beine-Po-Training: effektiv und vital I (26F3.02233) 
LOCATION:Städtischer Kindergarten Zell, Bahnhofstraße 7, 79669 Zell im Wiesental
END:VEVENT
BEGIN:VEVENT
DTSTAMP:20260422T110539
DTSTART;TZID=Europe/Berlin:20260316T184500
DTEND;TZID=Europe/Berlin:20260316T193000
UID:26F3.02233-20260316T184500@VHSWIESENTAL
SUMMARY:Bauch-Beine-Po-Training: effektiv und vital I (26F3.02233) 
LOCATION:Städtischer Kindergarten Zell, Bahnhofstraße 7, 79669 Zell im Wiesental
END:VEVENT
BEGIN:VEVENT
DTSTAMP:20260422T110539
DTSTART;TZID=Europe/Berlin:20260323T184500
DTEND;TZID=Europe/Berlin:20260323T193000
UID:26F3.02233-20260323T184500@VHSWIESENTAL
SUMMARY:Bauch-Beine-Po-Training: effektiv und vital I (26F3.02233) 
LOCATION:Städtischer Kindergarten Zell, Bahnhofstraße 7, 79669 Zell im Wiesental
END:VEVENT
BEGIN:VEVENT
DTSTAMP:20260422T110539
DTSTART;TZID=Europe/Berlin:20260330T184500
DTEND;TZID=Europe/Berlin:20260330T193000
UID:26F3.02233-20260330T184500@VHSWIESENTAL
SUMMARY:Bauch-Beine-Po-Training: effektiv und vital I (26F3.02233) 
LOCATION:Städtischer Kindergarten Zell, Bahnhofstraße 7, 79669 Zell im Wiesental
END:VEVENT
BEGIN:VEVENT
DTSTAMP:20260422T110539
DTSTART;TZID=Europe/Berlin:20260413T184500
DTEND;TZID=Europe/Berlin:20260413T193000
UID:26F3.02233-20260413T184500@VHSWIESENTAL
SUMMARY:Bauch-Beine-Po-Training: effektiv und vital I (26F3.02233) 
LOCATION:Städtischer Kindergarten Zell, Bahnhofstraße 7, 79669 Zell im Wiesental
END:VEVENT
BEGIN:VEVENT
DTSTAMP:20260422T110539
DTSTART;TZID=Europe/Berlin:20260420T184500
DTEND;TZID=Europe/Berlin:20260420T193000
UID:26F3.02233-20260420T184500@VHSWIESENTAL
SUMMARY:Bauch-Beine-Po-Training: effektiv und vital I (26F3.02233) 
LOCATION:Städtischer Kindergarten Zell, Bahnhofstraße 7, 79669 Zell im Wiesental
END:VEVENT
END:VCALENDAR