BEGIN:VCALENDAR
PRODID:http://www.kufer.de/kuferweb / DE
VERSION:2.0
METHOD:PUBLISH
CALSCALE:GREGORIAN
X-WR-TIMEZONE:Europe/Berlin
BEGIN:VTIMEZONE
TZID:Europe/Berlin
X-LIC-LOCATION:Europe/Berlin
BEGIN:DAYLIGHT
TZOFFSETFROM:+0100
TZOFFSETTO:+0200
TZNAME:CEST
DTSTART;TZID=Europe/Berlin:19700329T020000
RRULE:FREQ=YEARLY;INTERVAL=1;BYDAY=-1SU;BYMONTH=3
END:DAYLIGHT
BEGIN:STANDARD
TZOFFSETFROM:+0200
TZOFFSETTO:+0100
TZNAME:CET
DTSTART;TZID=Europe/Berlin:19701025T030000
RRULE:FREQ=YEARLY;INTERVAL=1;BYDAY=-1SU;BYMONTH=10
END:STANDARD
END:VTIMEZONE
BEGIN:VEVENT
DTSTAMP:20260421T110722
DTSTART;TZID=Europe/Berlin:20260224T174500
DTEND;TZID=Europe/Berlin:20260224T183000
UID:26F3.02667-20260224T174500@VHSWIESENTAL
SUMMARY:Dance Fit Basics - Grundschritte, Rhythmus und Spaß für Einsteiger*innen (26F3.02667) 
LOCATION:Mensa Gymnastikraum, Scheffelstraße 6, 79669 Zell im Wiesental
END:VEVENT
BEGIN:VEVENT
DTSTAMP:20260421T110722
DTSTART;TZID=Europe/Berlin:20260303T174500
DTEND;TZID=Europe/Berlin:20260303T183000
UID:26F3.02667-20260303T174500@VHSWIESENTAL
SUMMARY:Dance Fit Basics - Grundschritte, Rhythmus und Spaß für Einsteiger*innen (26F3.02667) 
LOCATION:Mensa Gymnastikraum, Scheffelstraße 6, 79669 Zell im Wiesental
END:VEVENT
BEGIN:VEVENT
DTSTAMP:20260421T110722
DTSTART;TZID=Europe/Berlin:20260310T174500
DTEND;TZID=Europe/Berlin:20260310T183000
UID:26F3.02667-20260310T174500@VHSWIESENTAL
SUMMARY:Dance Fit Basics - Grundschritte, Rhythmus und Spaß für Einsteiger*innen (26F3.02667) 
LOCATION:Mensa Gymnastikraum, Scheffelstraße 6, 79669 Zell im Wiesental
END:VEVENT
BEGIN:VEVENT
DTSTAMP:20260421T110722
DTSTART;TZID=Europe/Berlin:20260317T174500
DTEND;TZID=Europe/Berlin:20260317T183000
UID:26F3.02667-20260317T174500@VHSWIESENTAL
SUMMARY:Dance Fit Basics - Grundschritte, Rhythmus und Spaß für Einsteiger*innen (26F3.02667) 
LOCATION:Mensa Gymnastikraum, Scheffelstraße 6, 79669 Zell im Wiesental
END:VEVENT
BEGIN:VEVENT
DTSTAMP:20260421T110722
DTSTART;TZID=Europe/Berlin:20260324T174500
DTEND;TZID=Europe/Berlin:20260324T183000
UID:26F3.02667-20260324T174500@VHSWIESENTAL
SUMMARY:Dance Fit Basics - Grundschritte, Rhythmus und Spaß für Einsteiger*innen (26F3.02667) 
LOCATION:Mensa Gymnastikraum, Scheffelstraße 6, 79669 Zell im Wiesental
END:VEVENT
BEGIN:VEVENT
DTSTAMP:20260421T110722
DTSTART;TZID=Europe/Berlin:20260414T174500
DTEND;TZID=Europe/Berlin:20260414T183000
UID:26F3.02667-20260414T174500@VHSWIESENTAL
SUMMARY:Dance Fit Basics - Grundschritte, Rhythmus und Spaß für Einsteiger*innen (26F3.02667) 
LOCATION:Mensa Gymnastikraum, Scheffelstraße 6, 79669 Zell im Wiesental
END:VEVENT
BEGIN:VEVENT
DTSTAMP:20260421T110722
DTSTART;TZID=Europe/Berlin:20260421T174500
DTEND;TZID=Europe/Berlin:20260421T183000
UID:26F3.02667-20260421T174500@VHSWIESENTAL
SUMMARY:Dance Fit Basics - Grundschritte, Rhythmus und Spaß für Einsteiger*innen (26F3.02667) 
LOCATION:Mensa Gymnastikraum, Scheffelstraße 6, 79669 Zell im Wiesental
END:VEVENT
BEGIN:VEVENT
DTSTAMP:20260421T110722
DTSTART;TZID=Europe/Berlin:20260428T174500
DTEND;TZID=Europe/Berlin:20260428T183000
UID:26F3.02667-20260428T174500@VHSWIESENTAL
SUMMARY:Dance Fit Basics - Grundschritte, Rhythmus und Spaß für Einsteiger*innen (26F3.02667) 
LOCATION:Mensa Gymnastikraum, Scheffelstraße 6, 79669 Zell im Wiesental
END:VEVENT
BEGIN:VEVENT
DTSTAMP:20260421T110722
DTSTART;TZID=Europe/Berlin:20260505T174500
DTEND;TZID=Europe/Berlin:20260505T183000
UID:26F3.02667-20260505T174500@VHSWIESENTAL
SUMMARY:Dance Fit Basics - Grundschritte, Rhythmus und Spaß für Einsteiger*innen (26F3.02667) 
LOCATION:Mensa Gymnastikraum, Scheffelstraße 6, 79669 Zell im Wiesental
END:VEVENT
BEGIN:VEVENT
DTSTAMP:20260421T110722
DTSTART;TZID=Europe/Berlin:20260512T174500
DTEND;TZID=Europe/Berlin:20260512T183000
UID:26F3.02667-20260512T174500@VHSWIESENTAL
SUMMARY:Dance Fit Basics - Grundschritte, Rhythmus und Spaß für Einsteiger*innen (26F3.02667) 
LOCATION:Mensa Gymnastikraum, Scheffelstraße 6, 79669 Zell im Wiesental
END:VEVENT
BEGIN:VEVENT
DTSTAMP:20260421T110722
DTSTART;TZID=Europe/Berlin:20260519T174500
DTEND;TZID=Europe/Berlin:20260519T183000
UID:26F3.02667-20260519T174500@VHSWIESENTAL
SUMMARY:Dance Fit Basics - Grundschritte, Rhythmus und Spaß für Einsteiger*innen (26F3.02667) 
LOCATION:Mensa Gymnastikraum, Scheffelstraße 6, 79669 Zell im Wiesental
END:VEVENT
BEGIN:VEVENT
DTSTAMP:20260421T110722
DTSTART;TZID=Europe/Berlin:20260609T174500
DTEND;TZID=Europe/Berlin:20260609T183000
UID:26F3.02667-20260609T174500@VHSWIESENTAL
SUMMARY:Dance Fit Basics - Grundschritte, Rhythmus und Spaß für Einsteiger*innen (26F3.02667) 
LOCATION:Mensa Gymnastikraum, Scheffelstraße 6, 79669 Zell im Wiesental
END:VEVENT
END:VCALENDAR